BEGIN:VCALENDAR
VERSION:2.0
PRODID:spatie/icalendar-generator
DESCRIPTION:Events from Johnson Goaltending\, LLC
X-WR-CALDESC:Events from Johnson Goaltending\, LLC
REFRESH-INTERVAL;VALUE=DURATION:PT1440M
X-PUBLISHED-TTL:PT1440M
BEGIN:VTIMEZONE
TZID:America/Detroit
BEGIN:DAYLIGHT
DTSTART:20250309T020000Z
TZOFFSETFROM:-0500
TZOFFSETTO:-0400
END:DAYLIGHT
BEGIN:STANDARD
DTSTART:20251102T020000Z
TZOFFSETFROM:-0400
TZOFFSETTO:-0500
END:STANDARD
END:VTIMEZONE
BEGIN:VTIMEZONE
TZID:UTC
BEGIN:STANDARD
DTSTART:20250724T124653Z
TZOFFSETFROM:+0000
TZOFFSETTO:+0000
END:STANDARD
END:VTIMEZONE
BEGIN:VEVENT
UID:154-112
DTSTAMP:20260420T124653Z
SUMMARY:Summer Goalie Training
LOCATION:140 Ice Den 970 Grand Oaks Dr  Howell MI 48843
ORGANIZER;CN=Johnson Goaltending:MAILTO:johnsongoaltending@gmail.com
DTSTART;TZID=America/Detroit:20250731T163000
DTEND;TZID=America/Detroit:20250731T173000
X-ALT-DESC;FMTTYPE=TEXT/HTML:
CATEGORIES:Training Session
URL;VALUE=URI:https://johnsongoaltending.org/mc-events/summer-goalie-traini
 ng-12/?mc_id=154
END:VEVENT
END:VCALENDAR