BEGIN:VCALENDAR
VERSION:2.0
PRODID:spatie/icalendar-generator
DESCRIPTION:Events from Johnson Goaltending\, LLC
X-WR-CALDESC:Events from Johnson Goaltending\, LLC
REFRESH-INTERVAL;VALUE=DURATION:PT1440M
X-PUBLISHED-TTL:PT1440M
BEGIN:VTIMEZONE
TZID:America/Detroit
BEGIN:STANDARD
DTSTART:20251102T020000Z
TZOFFSETFROM:-0400
TZOFFSETTO:-0500
END:STANDARD
BEGIN:DAYLIGHT
DTSTART:20260308T020000Z
TZOFFSETFROM:-0500
TZOFFSETTO:-0400
END:DAYLIGHT
BEGIN:STANDARD
DTSTART:20261101T020000Z
TZOFFSETFROM:-0400
TZOFFSETTO:-0500
END:STANDARD
END:VTIMEZONE
BEGIN:VTIMEZONE
TZID:UTC
BEGIN:STANDARD
DTSTART:20250727T142605Z
TZOFFSETFROM:+0000
TZOFFSETTO:+0000
END:STANDARD
END:VTIMEZONE
BEGIN:VEVENT
UID:220-169
DTSTAMP:20260423T142605Z
SUMMARY:ALPENA 2 DAY GOALIE CAMP
LOCATION:Northern Lights Arena 751 Woodward Ave.  Alpena MI 49707
ORGANIZER;CN=Johnson Goaltending\, LLC:MAILTO:edwardjohnsonii@yahoo.com
DTSTART;TZID=America/Detroit:20260707T000000
DTEND;TZID=America/Detroit:20260708T010000
X-ALT-DESC;FMTTYPE=TEXT/HTML:
CATEGORIES:Camp
URL;VALUE=URI:https://johnsongoaltending.org/mc-events/alpena-2-day-goalie-
 camp/?mc_id=220
END:VEVENT
END:VCALENDAR