BEGIN:VCALENDAR
VERSION:2.0
PRODID:spatie/icalendar-generator
DESCRIPTION:Events from Johnson Goaltending\, LLC
X-WR-CALDESC:Events from Johnson Goaltending\, LLC
REFRESH-INTERVAL;VALUE=DURATION:PT1440M
X-PUBLISHED-TTL:PT1440M
BEGIN:VTIMEZONE
TZID:America/Detroit
BEGIN:STANDARD
DTSTART:20251102T020000Z
TZOFFSETFROM:-0400
TZOFFSETTO:-0500
END:STANDARD
BEGIN:DAYLIGHT
DTSTART:20260308T020000Z
TZOFFSETFROM:-0500
TZOFFSETTO:-0400
END:DAYLIGHT
BEGIN:STANDARD
DTSTART:20261101T020000Z
TZOFFSETFROM:-0400
TZOFFSETTO:-0500
END:STANDARD
END:VTIMEZONE
BEGIN:VTIMEZONE
TZID:UTC
BEGIN:STANDARD
DTSTART:20250727T142837Z
TZOFFSETFROM:+0000
TZOFFSETTO:+0000
END:STANDARD
END:VTIMEZONE
BEGIN:VEVENT
UID:217-166
DTSTAMP:20260423T142837Z
SUMMARY:140 Ice Den 2 DAY GOAIE CAMP
LOCATION:140 Ice Den 970 Grand Oaks Dr  Howell MI 48843
ORGANIZER;CN=Johnson Goaltending\, LLC:MAILTO:edwardjohnsonii@yahoo.com
DTSTART;TZID=America/Detroit;VALUE=DATE:20260611
DTEND;TZID=America/Detroit;VALUE=DATE:20260613
X-ALT-DESC;FMTTYPE=TEXT/HTML:
CATEGORIES:Camp
URL;VALUE=URI:https://johnsongoaltending.org/mc-events/140-ice-den-2-day-go
 aie-camp/?mc_id=217
END:VEVENT
END:VCALENDAR